Workbook

Sheet AM
C2: Subproceso de Planificación Estratégica Gestión de Proyectos
C4: Análisis de Mercado
B9: 1.Población de Referencia
B11: 1.1 Aréa de influencia
B13: 1.1.1 Cantón | C13: 1.1.1.1 Distrito | D13: 1.1.1.2 Barrio | E13: 1.1.1.3 Comunidad
B16: 1.1.2 Radio de influencia
B19: 1.2. Población existente
B21: 1.2.1 Habitantes
B22: 1.2.2 Viviendas
B23: 1.2.3 Hogares
B24: 1.2.4 Edad
B25: 0 -4
B26: 5 a 9
B27: 10 a14
B28: 15 a 20
B29: 21 a 25
B30: 26-30
... B42: 85 años y más
B43: 1.2.5 Sexo | C43: Hombre | E43: Mujeres
B46: 1.3. Cáculo de Población de referencia
B48: 1.3.1 Tasa de crecimiento
C49: Valor
B50: PI-Población Inicial (último censo) | C50: 1000
B51: PF-Población Final (Último censo disponible) | C51: 1500
B52: Años entre los datos (PI PF) | C52: 5
B54: Tasa de crecimiento definida: | C54: =100*(((C51/C50)^(1/C52))-1) -> 8.4471771
B56: 1.3.2 Proyección de la población
C57: Valores
B58: Tasa anual de crecimiento definida
B59: Población más reciente del último censo
B60: Años entre los datos para el cual se hará la estimación
B62: Proyección de Población
B64: 2. Población Objetivo
B67: 2.1 Describiciónde la intervención por realizar
B71: 2.2 Total de población
B73: 2.3 Carácteristicas especificas de la población de referencia por considerar
B75: Sexo
B76: Rangos de edad
B78: Total de población objetivo | C78: 6850
B81: 3. Estimación de la demanda actual y futura
...

Sheet AT
D3: Subproceso de Planificación Estratégica Gestión de Proyectos
D5: Análisis Técnico
C11: 1. Localización
C13: 1.1 Punto de partida
C15: 1.1.1 Descripción de la intervención por realizar
C16: 1.1.2 Ubicación física propuesta
C17: 1.1.3 Elementos asociados con la población
C18: Ubicación de la población
C19: Condiciones de accesibilidad
C20: Condiciones socioecónomicas
C21: Carácteristicas administrativas
C23: 1.2 Macrolización
C25: Provincia | D25: Cantón | E25: Distrito | F25: Comunidad
C28: Área o Sector
C31: 1.3 Microlocalización
C33: 1.3.1 Dirección exacta del proyecto
C35: Coordenadas geograficas
C37: 13.2 Validación de la localización
C39: Criterio | D39: % | E39: Valoración | F39: Detalle
C40: Cercanía a población objetivo | D40: 0.2
C41: Accesibilidad | D41: 0.15
C42: Disponibilidad del terreno | D42: 0.15
C43: Servicios públicos | D43: 0.15
C44: Condiciones topográficas | D44: 0.1
C45: Amenazas/riesgos | D45: 0.1
C46: Tipo de zona | D46: 0.15
C47: Total | D47: =SUM(D40:D46) -> 1
C49: Resultado de validación efectuado
C53: 1.4 Riesgos asociados a la localización
C55: 1.4.1 Punto de partida
C57: Amenzas del área identificadas
C59: Riesgos identificados
C61: Riesgo | D61: Carácteristicas | E61: Posibles daños | F61: Efectos sobre el proyecto
D62: Frecuencia
D63: Intensidad
D64: Duración
C66: Resultado de validación efectuado con los riesgos
C71: 2. Tamaño
C73: Definción del tamaño
C75: Parámetros de referencia | E75: Análisis sobre el tamaño
...

Sheet AA
D3: Subproceso de Planificación Estratégica Gestión de Proyectos
D5: Análisis Ambiental
C11: 1. Localización de la intervención
C13: 1.1 Punto de partida
C15: 1.1.1 Descripción de la intervención por realizar
C16: 1.1.2 Ubicación física propuesta
C18: 1.2 Macrolización
C20: Provincia | D20: Cantón | E20: Distrito | F20: Comunidad
C23: 1.3 Microlocalización
C25: 1.3.1 Dirección exacta del proyecto
C27: Coordenadas geograficas
C29: 1.4 Fases para el desarrollo de la propuesta
C31: Fase | D31: Actividades por desarrollar
C41: 1.5 Diagnóstico Inicial
C43: Elemento | D43: Si | E43: No | F43: N/A | G43: Observaciones
C44: Ríos, quebradas o nacientes cercanas | D44: FALSE | E44: FALSE | F44: FALSE
C45: Humedales | D45: FALSE | E45: FALSE | F45: FALSE
C46: Cobertura vegetal | D46: FALSE | E46: FALSE | F46: FALSE
C47: Árboles que requieren intervención | D47: FALSE | E47: FALSE | F47: FALSE
C48: Fauna observable | D48: FALSE | E48: FALSE | F48: FALSE
C49: Pendientes importantes | D49: FALSE | E49: FALSE | F49: FALSE
C50: Riesgo de erosión | D50: FALSE | E50: FALSE | F50: FALSE
C51: Riesgo de inundación | D51: FALSE | E51: FALSE | F51: FALSE
C52: Condiciones de drenaje | D52: FALSE | E52: FALSE | F52: FALSE
C53: Áreas protegidas o sensibles | D53: FALSE | E53: FALSE | F53: FALSE
C54: Viviendas cercanas | D54: FALSE | E54: FALSE | F54: FALSE
C55: Centros educativos/salud cercanos | D55: FALSE | E55: FALSE | F55: FALSE
... C64: Otros aspectos relevantes | D64: FALSE | E64: FALSE | F64: FALSE
C66: Resultado del diagnóstico incial
C70: 1.6 Identificación de los factores ambientales que se puedan afectar
C72: Actividad | D72: Fase | E72: Factor Ambiental | F72: Impacto identificado | G72: Tipo (+,-) | H72: Afectación (Directo-Indirecto)
C84: 1.7 Valoración de los efectos ambientales
C86: Actividad
C87: Factor
C88: Impacto Ambiental
C89: Criterio | D89: Valoración | E89: Resultado | F89: Valoración | G89: Resultado | H89: Valoración | I89: Resultado
C90: Naturaleza | D90: -1 | F90: -1 | H90: -1
C91: Intensidad | D91: 4 | F91: 4 | H91: 4
C92: Extensión | D92: 2 | F92: 2 | H92: 2
C93: Momento | D93: 4 | F93: 4 | H93: 4
...

Sheet Hoja1
B4: Naturaleza | C4: -1 | E4: Positiva o Negativa
B5: Intensidad | C5: 4 | E5: Baja (1), Media (2), Alta (4), Muy Alta (8), Total (12)
B6: Extensión | C6: 2 | E6: Puntual (1), Parcial (2), Extenso (4), Total (8)
B7: Momento | C7: 4 | E7: Largo plazo (1), Medio plazo (2), Inmediato (4)
B8: Persistencia | C8: 2 | E8: Fugaz (1), Temporal (2), Permanente (4)
B9: Reversibilidad | C9: 2 | E9: Corto plazo (1), Medio plazo (2), Irreversible (4)
B10: Sinergia | C10: 1 | E10: Sin sinergia (1), Sinérgico (2), Muy sinérgico (4)
B11: Acumulación | C11: 1 | E11: Simple (1), Acumulativo (4)
B12: Efecto | C12: 4 | E12: Indirecto/Secundario (1), Directo (4)
B13: Periocidad | C13: 2 | E13: Discontinuo (1), Periódico (2), Continuo (4)
B14: Recuperabilidad | C14: 2 | E14: Recuperable inmediato (1), Mediano plazo (2), Mitigable (4), Irrecuperable (8)

Sheet AL
C3: Subproceso de Planificación Estratégica Gestión de Proyectos
C5: Análisis Legal
B10: 1. Caracterización de las personas estudiantes
B12: 1.1 Punto de partida
B14: 1.1.1 Nombre del proyecto
B15: 1.1.2 Descripción de la intervención por realizar
B17: 1.1.2 Fases para la ejecución del proyecto
B19: Fase | C19: Actividades por desarrollar
B28: 1.2 Análisis de la competencia municipal para su desarrollo
B31: 1.2.1 Normativa relacionada con el poyecto | C31: Norma | D31: Artículo | E31: Detalle | F31: Vinculación
B36: 1.2.2 Vinculación a instrumentos de planificación municipal | C36: Instrumento | D36: Tipo de vinculo | E36: Detalle | F36: Vinculación
B41: ¿Es competencia de la municipalidad para su ejecución? | C41: Si | D41: FALSE
C42: No | D42: FALSE
B45: Resultado de la valoración del análisi realizado
B51: 1.3 Análisis de la normativa específica por etapa de desarrollo del proyecto
B54: Fase de ejecución | C54: Norma | D54: Artículo | E54: Detalle | F54: Requisito por cumplir
B66: Resultado del análisis de los resultados
B72: 1.4 Análisis de incidencia legal
B74: Fase | C74: Requisito o condición | D74: Impacto en alcance | E74: Impacto en plazo | F74: Impacto en costo | G74: Riesgo por incumplimiento | H74: Acción requerida
B83: Resultado del análisis efectuado
B88: 1.5 Resultado del análisis
B90: Detalle | D90: Observaciones
B91: Viable legalmente. | C91: FALSE
B92: Viable con requisitos pendientes controlables. | C92: FALSE
B93: Viable condicionado al cumplimiento de requisitos previos. | C93: FALSE
B94: Requiere modificar elementos del proyecto. | C94: FALSE
B95: Presenta impedimento legal para continuar. | C95: FALSE
B98: 1.6 Requisitos críticos antes de inversión
B100: Requisito | C100: Responsable | D100: Detalle | E100: Evidencia requerida

Sheet AADMI
D3: Subproceso de Planificación Estratégica Gestión de Proyectos
D5: Análisis Administrativo
C10: 1.1 Punto de partida
C12: 1.1.1 Nombre del proyecto
C13: 1.1.2 Descripción de la intervención por realizar
C15: 1.1.2 Fases para la ejecución del proyecto
C17: Fase | D17: Actividades por desarrollar | H17: Áreas ténicas involucradas
C27: 1.2 Identificación de los roles del desarrollo de la intervención
C29: Fase identificada | D29: Responsabilidad | H29: Observaciones
D30: Área Técnica | E30: Persona | F30: Funciones | G30: Rol
C41: 1.3 Identificación de las necesidades de recurso humano
C43: Puesto | D43: Funciones | E43: Rol | F43: Observaciones
C52: 1.3 Identificación de las necesidades de materiales para el desarrollo de la intervención.
C54: Requerimiento | D54: Detalle | E54: Fase
C63: Resultado del análisis efectuado
C69: 1.4 Requisitos críticos antes de inversión
C71: Requisito | D71: Responsable | E71: Detalle | F71: Costo asociado
C83: 2. Programación del Proyecto
C85: Objetivo General
C87: Objetivo especifico 1
C89: 1.1Componente | F89: 1.2 Componente
C90: 1.1.1 Producto | F90: 1.2.1 Producto
C91: 1.1.1.1 Entregable | F91: 1.2.1.1 Entregable
C92: 1.1.1.1.1 Paquete de trabajo | F92: 1.2.1.1.1 Paquete de trabajo
C95: 1.1.2 Producto
C96: 1.1.2.1 Entregable
C97: 1.1.2.1.1 Paquete de trabajo
C100: Objetivo especifico 2
C102: 2.1Componente | F102: 2.2 Componente
C103: 2.1.1 Producto | F103: 2.2.1 Producto
C104: 2.1.1.1 Entregable | F104: 2.2.1.1 Entregable
C105: 2.1.1.1.1 Paquete de trabajo | F105: 2.2.1.1.1 Paquete de trabajo
C108: 2.1.2 Producto
C109: 2.1.2.1 Entregable
C110: 2.1.2.1.1 Paquete de trabajo
C113: 3.Cronograma del Proyecto
C116: Descripción de actividad | D116: Fase | E116: Inicio | F116: Final | G116: Duración | H116: Porcejante de cumplimiento

Sheet ARI
D3: Subproceso de Planificación Estratégica Gestión de Proyectos
D5: Análisis de Riesgos
B10: 1.1 Información del proyecto
B12: 1.1.1 Nombre del proyecto
B14: 1.1.2 Descripción de la intervención por realizar
B17: 1.2 Identificación de los riesgos
B20: IDENTIFICACIÓN | H20: ANÁLISIS Y EVALUACIÓN | K20: ADMINISTRACIÓN Y REVISIÓN
B21: FASE | C21: RIESGO | D21: CAUSA | E21: CONSECUENCIA | F21: TIPO DE RIESGO | G21: CONTROLES EXISTENTES | H21: PROBABILIDAD | I21: IMPACTO | J21: NIVEL DE RIESGO | K21: Acción propuesta | L21: RESPONSABLE | M21: PLAZO
J22: =H22*I22 -> 0
J23: =H23*I23 -> 0
J24: =H24*I24 -> 0
J25: =H25*I25 -> 0
J26: =H26*I26 -> 0
J27: =H27*I27 -> 0
J28: =H28*I28 -> 0
J29: =H29*I29 -> 0
J30: =H30*I30 -> 0
J31: =H31*I31 -> 0
J32: =H32*I32 -> 0
J33: =H33*I33 -> 0
B38: 1.3 Resultados de Identificación de los riesgos

Sheet ARIMC
D2: Subproceso de Planificación Estratégica Gestión de Proyectos
D4: Análisis de Riesgo
D9: MAPA DE CALOR
D11: PROABILIDAD | E11: Muy probable | F11: 5
E12: Probable | F12: 4
E13: Posible | F13: 3
E14: Poco probable | F14: 2
E15: Mínimo | F15: 1
G16: 1 | H16: 2 | I16: 5 | J16: 10 | K16: 20
G17: Insignificante | H17: Menor | I17: Moderado | J17: Importante | K17: Catastrófico
G18: IMPACTO
C21: RIESGOS IDENTIFICADOS
C22: R1 | D22: =+ARI!C22 -> 0
C23: R2 | D23: =+ARI!C23 -> 0
C24: R3 | D24: =+ARI!C24 -> 0
C25: R4 | D25: =+ARI!C25 -> 0
C26: R5 | D26: =+ARI!C26 -> 0
C27: R6 | D27: =+ARI!C27 -> 0
C28: R7 | D28: =+ARI!C28 -> 0
C29: R8 | D29: =+ARI!C29 -> 0
C30: R9 | D30: =+ARI!C30 -> 0

Sheet EF
E2: Subproceso de Planificación Estratégica Gestión de Proyectos
E4: Evaluación Financiera
C12: 1.1 Información del proyecto
C14: 1.1.1 Nombre del proyecto
C16: 1.1.2 Descripción de la intervención por realizar
C18: 2. Información para la estimación
C20: Inversión proyectada | F20: 0
C22: Fuente prevista de financiamiento
C24: ¿Genera ingresos propios? | E24: FALSE
C25: ¿Requiere endeudamiento? | E25: FALSE | F25: Detalle
C26: ¿Recibe transferencias/subsidios? | E26: FALSE
C28: Horizonte de evaluación
C30: 3.Información relacionada con el estudio de mercado
C32: Demanda identificada
C34: Oferta proyectada
C36: Costo estimado
C38: 4.Costos identificados en
C40: Análisis técnico
C42: Rubro | D42: Costo mensual | E42: Cantidad | F42: Total | G42: Depreciación
C43: Recurso Humanos
C47: Total | D47: =SUM(D44:D46) -> 0 | F47: =SUM(F44:F46) -> 0 | G47: =SUM(G44:G46) -> 0
C48: Obras físicas
C52: Total | D52: =SUM(D49:D51) -> 0 | F52: =SUM(F49:F51) -> 0 | G52: =SUM(G49:G51) -> 0
C53: Maquinaria, equipo o maquinaria
C57: Total | D57: =SUM(D54:D56) -> 0 | F57: =SUM(F54:F56) -> 0 | G57: =SUM(G54:G56) -> 0
C58: Tecnología
C62: Total | D62: =SUM(D59:D61) -> 0 | F62: =SUM(F59:F61) -> 0 | G62: =SUM(G59:G61) -> 0
C63: Estudios,diseño estrategias u otros
C67: Total | D67: =SUM(D64:D66) -> 0 | F67: =SUM(F64:F66) -> 0 | G67: =SUM(G64:G66) -> 0
C68: Otros
C72: Total | D72: =SUM(D69:D71) -> 0 | F72: =SUM(F69:F71) -> 0 | G72: =SUM(G69:G71) -> 0
C75: Análisis de costos
C78: Detalle | D78: Sin proyecto | E78: Proyecto | F78: Incremento
C80: Ingresos | D80: 0 | E80: 0 | F80: =+E80-D80 -> 0
C82: Egresos
C83: Recurso Humano | D83: 0 | E83: 0 | F83: =+E83-D83 -> 0
C84: Obras físicas | D84: 0 | E84: 0 | F84: =+E84-D84 -> 0
C85: Maquinaria, equipo o maquinaria | D85: 0 | E85: 0 | F85: =+E85-D85 -> 0
C86: Tecnología | D86: 0 | E86: 0 | F86: =+E86-D86 -> 0
C87: Estudios,diseño estrategias u otros | D87: 0 | E87: 0 | F87: =+E87-D87 -> 0
...

Sheet EES
D2: Subproceso de Planificación Estratégica Gestión de Proyectos
D4: Evaluación Ecónomica Social
B12: 1.1 Información del proyecto
B14: 1.1.1 Nombre del proyecto
B16: 1.1.2 Descripción de la intervención por realizar
B18: 2. Selección de enfoque por utilizar
B20: Pregunta | D20: SI | E20: NO
B21: ¿Los beneficios sociales pueden identificarse? | D21: FALSE | E21: FALSE
B22: ¿Pueden cuantificarse? | D22: FALSE | E22: FALSE
B23: ¿Pueden expresarse razonablemente en términos monetarios? | D23: FALSE | E23: FALSE
B24: ¿Existen datos confiables para valorarlos? | D24: FALSE | E24: FALSE
B25: ¿La valoración es razonable en costo y complejidad? | D25: FALSE | E25: FALSE
B27: Situación base optimizada
B29: Elemento | C29: Situación Actual | D29: Situación base | E29: Situación con proyecto
B30: Problema
B31: Población afectada
B32: Servicio actual
B33: Capacidad
B34: Costo de operación | C34: 0 | D34: 0 | E34: 0
B35: Beneficiarios
B36: Otros
B38: Información base
B40: Beneficios sociales
B42: Beneficario | C42: Tipo | D42: Unidad | E42: Monetizable | F42: Costo indvidual | G42: Valor anual
C43: Directo | G43: =+D43*F43 -> 0
C44: Indierecto | G44: =+D44*F44 -> 0
C45: Intangible | G45: =+D45*F45 -> 0
C46: Externalidad positiva | G46: =+D46*F46 -> 0
B48: Beneficios incrementales
B50: Beneficio | C50: Sin proyecto | D50: Con proyecto | E50: Beneficio Incremental
C51: 0 | D51: 0 | E51: 0
C52: 0 | D52: 0 | E52: 0
C53: 0 | D53: 0 | E53: 0
C54: 0 | D54: 0 | E54: 0 | H54: Si
C55: 0 | D55: 0 | E55: 0 | H55: No
B56: Total | E56: =SUM(E51:E55) -> 0
B59: Costos sociales
B61: Tipo de Costo | C61: Precio de mercado | D61: Transferencia | E61: Costo mercado ajustado | F61: Factor de Correción Social | G61: Costo Social | H61: Ajuste Social | I61: % Ajuste | J61: Fuente del factor
B62: Mano de obra | C62: 15000 | D62: NO | E62: =+IF(D62="SI",0,C62) -> 15000 | F62: 0.9 | G62: =+IF(E62=0,0,IF(F62="","",E62*F62)) -> 13500 | H62: =+IF(E62="","",E62-G62) -> 1500 | I62: =+IF(E62=0,0,IF(G62="","",(E62-G62)/E62)) -> 0.1
B63: Materiales | C63: 5000 | D63: NO | E63: =+IF(D63="SI",0,C63) -> 5000 | F63: 0.95 | G63: =+IF(E63=0,0,IF(F63="","",E63*F63)) -> 4750 | H63: =+IF(E63="","",E63-G63) -> 250 | I63: =+IF(E63=0,0,IF(G63="","",(E63-G63)/E63)) -> 0.05
...

Sheet Hoja3
E4: Subproceso de Planificación Estratégica Gestión de Proyectos
E6: Evaluación CulItativa
C11: Criterios y subcriterios para la valoración
C13: Criterio | D13: Subcriterio | E13: Indicador / pregunta de evaluación | F13: Ponderación | G13: Calif. A | H13: Puntaje A | I13: Calif. B | J13: Puntaje B | K13: Calif. C | L13: Puntaje C | M13: Fuente / justificación
C14: Impacto Social | D14: Calidad de vida | E14: ¿En qué medida mejora la calidad de vida de la población? | F14: 0.15 | G14: 5 | H14: =IF(OR(F14="",G14=""),"",F14*G14) -> 0.75 | J14: =IF(OR(F14="",I14=""),"",F14*I14) | L14: =IF(OR(F14="",K14=""),"",F14*K14)
C15: Impacto Social | D15: Equidad social | E15: ¿Favorece el acceso equitativo a bienes o servicios? | F15: 0.25 | H15: =IF(OR(F15="",G15=""),"",F15*G15) | J15: =IF(OR(F15="",I15=""),"",F15*I15) | L15: =IF(OR(F15="",K15=""),"",F15*K15)
C16: Impacto Social | D16: Compromiso de beneficiarios | E16: ¿Existe apoyo y capacidad para sostener el proyecto? | F16: 0.05 | H16: =IF(OR(F16="",G16=""),"",F16*G16) | J16: =IF(OR(F16="",I16=""),"",F16*I16) | L16: =IF(OR(F16="",K16=""),"",F16*K16)
C17: Impacto Ambiental | D17: Impactos ambientales | E17: ¿Reduce o controla impactos ambientales relevantes? | F17: 0.05 | H17: =IF(OR(F17="",G17=""),"",F17*G17) | J17: =IF(OR(F17="",I17=""),"",F17*I17) | L17: =IF(OR(F17="",K17=""),"",F17*K17)
C18: Impacto Ambiental | D18: Manejo sostenible de recursos | E18: ¿Incorpora eficiencia energética, renovables, economía circular u otras prácticas sostenibles? | F18: 0.15 | H18: =IF(OR(F18="",G18=""),"",F18*G18) | J18: =IF(OR(F18="",I18=""),"",F18*I18) | L18: =IF(OR(F18="",K18=""),"",F18*K18)
C19: Impacto Macroeconómico | D19: Generación de empleo | E19: ¿Genera empleo durante inversión y/o post-inversión? | F19: 0.25 | H19: =IF(OR(F19="",G19=""),"",F19*G19) | J19: =IF(OR(F19="",I19=""),"",F19*I19) | L19: =IF(OR(F19="",K19=""),"",F19*K19)
C20: Impacto Macroeconómico | D20: Competitividad | E20: ¿Reduce costos de transacción o mejora acceso/competitividad? | F20: 0.05 | H20: =IF(OR(F20="",G20=""),"",F20*G20) | J20: =IF(OR(F20="",I20=""),"",F20*I20) | L20: =IF(OR(F20="",K20=""),"",F20*K20)
C21: Otro criterio institucional | D21: Definir | E21: Indicador definido por la Municipalidad según los objetivos del proyecto. | F21: 0.05 | H21: =IF(OR(F21="",G21=""),"",F21*G21) | J21: =IF(OR(F21="",I21=""),"",F21*I21) | L21: =IF(OR(F21="",K21=""),"",F21*K21)
C22: TOTAL | F22: =SUM(F14:F21) -> 1 | H22: =SUM(H14:H21) -> 0.75 | J22: =SUM(J14:J21) -> 0 | L22: =SUM(L14:L21) -> 0
C24: RESUMEN DE RESULTADOS | H24: Calificación | I24: Interpretación
C25: Alternativa | D25: Puntaje ponderado | E25: Resultado sobre 5 | F25: Orden | H25: 1 | I25: Muy bajo / muy desfavorable
C26: Alternativa A | D26: =H22 -> 0.75 | E26: =IF($D$21=0,"",D26/$D$21) -> #VALUE! | F26: =IF(D26="","",RANK(D26,$B$25:$B$27,0)) -> #N/A | H26: 2 | I26: Bajo / desfavorable
C27: Alternativa B | D27: =J22 -> 0 | E27: =IF($D$21=0,"",D27/$D$21) -> #VALUE! | F27: =IF(D27="","",RANK(D27,$B$25:$B$27,0)) -> #N/A | H27: 3 | I27: Medio / aceptable
C28: Alternativa C | D28: =L22 -> 0 | E28: =IF($D$21=0,"",D28/$D$21) -> #VALUE! | F28: =IF(D28="","",RANK(D28,$B$25:$B$27,0)) -> #N/A | H28: 4 | I28: Alto / favorable
H29: 5 | I29: Muy alto / muy favorable
C32: COMPARACIÓN SIN PROYECTO / CON PROYECTO
C33: Criterio/Subcriterio | D33: Indicador | E33: Situación sin proyecto | F33: Situación con proyecto | G33: Cambio cualitativo | H33: Evidencia/Fuente | I33: Conclusión
C34: Calidad de vida
C35: Equidad social
C36: Compromiso de beneficiarios
C37: Impacto ambiental
C38: Manejo sostenible de recursos
C39: Generación de empleo
C40: Competitividad
C43: Resultado del análisis efectuado
